BEGIN:VCALENDAR
VERSION:2.0
PRODID:-//Vero International Festival of Historic Motoring 2026 - ECPv6.15.20//NONSGML v1.0//EN
CALSCALE:GREGORIAN
METHOD:PUBLISH
X-WR-CALNAME:Vero International Festival of Historic Motoring 2026
X-ORIGINAL-URL:https://www.historicmotoring.org.nz
X-WR-CALDESC:Events for Vero International Festival of Historic Motoring 2026
REFRESH-INTERVAL;VALUE=DURATION:PT1H
X-Robots-Tag:noindex
X-PUBLISHED-TTL:PT1H
BEGIN:VTIMEZONE
TZID:Pacific/Auckland
BEGIN:STANDARD
TZOFFSETFROM:+1300
TZOFFSETTO:+1200
TZNAME:NZST
DTSTART:20250405T140000
END:STANDARD
BEGIN:DAYLIGHT
TZOFFSETFROM:+1200
TZOFFSETTO:+1300
TZNAME:NZDT
DTSTART:20250927T140000
END:DAYLIGHT
BEGIN:STANDARD
TZOFFSETFROM:+1300
TZOFFSETTO:+1200
TZNAME:NZST
DTSTART:20260404T140000
END:STANDARD
BEGIN:DAYLIGHT
TZOFFSETFROM:+1200
TZOFFSETTO:+1300
TZNAME:NZDT
DTSTART:20260926T140000
END:DAYLIGHT
BEGIN:STANDARD
TZOFFSETFROM:+1300
TZOFFSETTO:+1200
TZNAME:NZST
DTSTART:20270403T140000
END:STANDARD
BEGIN:DAYLIGHT
TZOFFSETFROM:+1200
TZOFFSETTO:+1300
TZNAME:NZDT
DTSTART:20270925T140000
END:DAYLIGHT
END:VTIMEZONE
BEGIN:VEVENT
DTSTART;VALUE=DATE:20260316
DTEND;VALUE=DATE:20260317
DTSTAMP:20260421T045020
CREATED:20250219T125252Z
LAST-MODIFIED:20250623T033752Z
UID:1327-1773619200-1773705599@www.historicmotoring.org.nz
SUMMARY:Coastal Cruise
DESCRIPTION:This event has passed. \n				\n				\n				\n						\n					\n			\n						\n				\n					\n	Coastal Cruise				\n				\n				\n				\n					\n		\n			March 16\, 2026\n\n		\n\n\n	\n				\n				\n					\n		\n					\n		\n				\n						\n					\n			\n						\n				\n									Today’s rally theme: Coastal Cruise. A choice of four runs:  Long run: 186 km / 115 mile Medium run: 139 km / 86 mile Short run: 84 km / 52 mile Veterans short run: 53 km / 33 mile  Runs are full day\, out and back with an organised lunch stop and allow time for a rest and refresh before the evening. The first day’s run will follow the coast to the beautiful golden sands at the start of the Abel Tasman National Park\, New Zealand’s most visited National Park. The run out will feature stunning coastal views\, and the run home will follow Tasman’s gorgeous coast line.  In the evening: Official opening\, at the Trafalgar Centre.A chance to catch up with old friends and new after the first day of rallying. Join your fellow participants for the official festival opening and a meal and/or entertainment at the Trafalgar Centre.  Entertainment: Very popular duo Dust and Gold known for singalongs and original material ranging from Celtic ballads to Bluegrass. The entertainment will be different each night\, designed for fun\, and free for all participants to attend.   Meal tickets will be available to purchase late in 2025 after registrations close. We’ll contact entrants with options.  								\n				\n					\n		\n					\n		\n				\n						\n					\n			\n						\n				\n					\n	\n		\n\n	\n	Add to calendar	\n		\n	\n\n		\n			\n									\n	Google Calendar\n\n									\n	iCalendar\n\n									\n	Outlook 365\n\n									\n	Outlook Live\n\n							\n		\n\n		\n	\n\n				\n				\n					\n		\n					\n		\n				\n						\n					\n			\n						\n				\n					\n	\n		\n\n				Registrations	\n\n\n		\n	\n		Late Registrations
URL:https://www.historicmotoring.org.nz/event/coastal-cruise/
LOCATION:Abel Tasman National Park\, New Zealand
CATEGORIES:Festival Events
ATTACH;FMTTYPE=image/jpeg:https://www.historicmotoring.org.nz/wp-content/uploads/2024/02/vero-car-image-09.jpg
END:VEVENT
END:VCALENDAR