BEGIN:VCALENDAR
VERSION:2.0
PRODID:-//Vero International Festival of Historic Motoring 2026 - ECPv6.15.20//NONSGML v1.0//EN
CALSCALE:GREGORIAN
METHOD:PUBLISH
X-WR-CALNAME:Vero International Festival of Historic Motoring 2026
X-ORIGINAL-URL:https://www.historicmotoring.org.nz
X-WR-CALDESC:Events for Vero International Festival of Historic Motoring 2026
REFRESH-INTERVAL;VALUE=DURATION:PT1H
X-Robots-Tag:noindex
X-PUBLISHED-TTL:PT1H
BEGIN:VTIMEZONE
TZID:Pacific/Auckland
BEGIN:STANDARD
TZOFFSETFROM:+1300
TZOFFSETTO:+1200
TZNAME:NZST
DTSTART:20250405T140000
END:STANDARD
BEGIN:DAYLIGHT
TZOFFSETFROM:+1200
TZOFFSETTO:+1300
TZNAME:NZDT
DTSTART:20250927T140000
END:DAYLIGHT
BEGIN:STANDARD
TZOFFSETFROM:+1300
TZOFFSETTO:+1200
TZNAME:NZST
DTSTART:20260404T140000
END:STANDARD
BEGIN:DAYLIGHT
TZOFFSETFROM:+1200
TZOFFSETTO:+1300
TZNAME:NZDT
DTSTART:20260926T140000
END:DAYLIGHT
BEGIN:STANDARD
TZOFFSETFROM:+1300
TZOFFSETTO:+1200
TZNAME:NZST
DTSTART:20270403T140000
END:STANDARD
BEGIN:DAYLIGHT
TZOFFSETFROM:+1200
TZOFFSETTO:+1300
TZNAME:NZDT
DTSTART:20270925T140000
END:DAYLIGHT
END:VTIMEZONE
BEGIN:VEVENT
DTSTART;TZID=Pacific/Auckland:20260316T080000
DTEND;TZID=Pacific/Auckland:20260316T100000
DTSTAMP:20260421T025320
CREATED:20260224T004916Z
LAST-MODIFIED:20260224T005152Z
UID:3877-1773648000-1773655200@www.historicmotoring.org.nz
SUMMARY:Late Registrations
DESCRIPTION:This event has passed. \n				\n				\n				\n						\n					\n			\n						\n				\n					\n	Late Registrations				\n				\n				\n				\n					\n		\n			March 16\, 2026\n\n	\n\n	 @ \n\n\n8:00 am\n\n		\n\n\n\n	\n	 - \n\n10:00 am\n\n\n\n	\n				\n				\n					\n		\n					\n		\n				\n						\n					\n			\n						\n				\n									Late registration at the Trafalgar Centre. For all those who can’t make it to registration on Sunday afternoon you can register and collect your rally packs Monday morning between 8am and 10 am. It will be extremely busy this mornings our first rally starts from here too. If you can make it to register on Sunday afternoon please do so instead. Rally route staff will be at the registration desk to assist with enquiries. 								\n				\n					\n		\n					\n		\n				\n						\n					\n			\n						\n				\n					\n	\n		\n\n	\n	Add to calendar	\n		\n	\n\n		\n			\n									\n	Google Calendar\n\n									\n	iCalendar\n\n									\n	Outlook 365\n\n									\n	Outlook Live\n\n							\n		\n\n		\n	\n\n				\n				\n					\n		\n					\n		\n				\n						\n					\n			\n						\n				\n					\n	\n		\n\n				Coastal Cruise	\n\n\n		\n	\n		Rabbit Island Rally Lunch Stop - Monday Veteran Short Route
URL:https://www.historicmotoring.org.nz/event/late-registrations/
LOCATION:Trafalgar Centre\, Nelson\, New Zealand
CATEGORIES:Festival Events
END:VEVENT
END:VCALENDAR