BEGIN:VCALENDAR
VERSION:2.0
PRODID:-//Vero International Festival of Historic Motoring 2026 - ECPv6.15.20//NONSGML v1.0//EN
CALSCALE:GREGORIAN
METHOD:PUBLISH
X-WR-CALNAME:Vero International Festival of Historic Motoring 2026
X-ORIGINAL-URL:https://www.historicmotoring.org.nz
X-WR-CALDESC:Events for Vero International Festival of Historic Motoring 2026
REFRESH-INTERVAL;VALUE=DURATION:PT1H
X-Robots-Tag:noindex
X-PUBLISHED-TTL:PT1H
BEGIN:VTIMEZONE
TZID:Pacific/Auckland
BEGIN:STANDARD
TZOFFSETFROM:+1300
TZOFFSETTO:+1200
TZNAME:NZST
DTSTART:20250405T140000
END:STANDARD
BEGIN:DAYLIGHT
TZOFFSETFROM:+1200
TZOFFSETTO:+1300
TZNAME:NZDT
DTSTART:20250927T140000
END:DAYLIGHT
BEGIN:STANDARD
TZOFFSETFROM:+1300
TZOFFSETTO:+1200
TZNAME:NZST
DTSTART:20260404T140000
END:STANDARD
BEGIN:DAYLIGHT
TZOFFSETFROM:+1200
TZOFFSETTO:+1300
TZNAME:NZDT
DTSTART:20260926T140000
END:DAYLIGHT
BEGIN:STANDARD
TZOFFSETFROM:+1300
TZOFFSETTO:+1200
TZNAME:NZST
DTSTART:20270403T140000
END:STANDARD
BEGIN:DAYLIGHT
TZOFFSETFROM:+1200
TZOFFSETTO:+1300
TZNAME:NZDT
DTSTART:20270925T140000
END:DAYLIGHT
END:VTIMEZONE
BEGIN:VEVENT
DTSTART;TZID=Pacific/Auckland:20260318T180000
DTEND;TZID=Pacific/Auckland:20260318T210000
DTSTAMP:20260421T215010
CREATED:20250220T070512Z
LAST-MODIFIED:20260223T234124Z
UID:1367-1773856800-1773867600@www.historicmotoring.org.nz
SUMMARY:Nelson Night on the Town Displays
DESCRIPTION:This event has passed. \n				\n				\n				\n						\n					\n			\n						\n				\n					\n	Nelson Night on the Town Displays				\n				\n				\n				\n					\n		\n			March 18\, 2026\n\n	\n\n	 @ \n\n\n6:00 pm\n\n		\n\n\n\n	\n	 - \n\n9:00 pm\n\n\n\n	\n				\n				\n					\n		\n					\n		\n				\n						\n					\n			\n						\n				\n									Buxton Square and Montgomery Square car parks\, Nelson CBD. Arriving from 6pm. Come in to the Nelson CBD on Wednesday evening to see hundreds of veteran\, vintage\, and classic cars parked in the central city as the festival participants have a night experiencing the city’s amazing restaurants and bars. Maps link to each location: Buxton Square; Montgomery Square. Free event\, all welcome.  Please be aware that public will not be able to park in the Montgomery car park and two-thirds of the Buxton car park will not be available to the public for parking. 								\n				\n					\n		\n					\n		\n				\n						\n					\n			\n						\n				\n					\n	\n		\n\n	\n	Add to calendar	\n		\n	\n\n		\n			\n									\n	Google Calendar\n\n									\n	iCalendar\n\n									\n	Outlook 365\n\n									\n	Outlook Live\n\n							\n		\n\n		\n	\n\n				\n				\n					\n		\n					\n		\n				\n						\n					\n			\n						\n				\n					\n	\n		\n\n				Higgins Heritage Park Lunch Stop - Wednesday All Routes	\n\n\n		\n	\n		Valleys and Rivers Run
URL:https://www.historicmotoring.org.nz/event/nelson-night-on-the-town-displays/
LOCATION:Buxton Square and Montgomery Square Car Parks
CATEGORIES:Public Viewing Events
END:VEVENT
END:VCALENDAR