BEGIN:VCALENDAR
VERSION:2.0
PRODID:-//Vero International Festival of Historic Motoring 2026 - ECPv6.15.20//NONSGML v1.0//EN
CALSCALE:GREGORIAN
METHOD:PUBLISH
X-WR-CALNAME:Vero International Festival of Historic Motoring 2026
X-ORIGINAL-URL:https://www.historicmotoring.org.nz
X-WR-CALDESC:Events for Vero International Festival of Historic Motoring 2026
REFRESH-INTERVAL;VALUE=DURATION:PT1H
X-Robots-Tag:noindex
X-PUBLISHED-TTL:PT1H
BEGIN:VTIMEZONE
TZID:Pacific/Auckland
BEGIN:STANDARD
TZOFFSETFROM:+1300
TZOFFSETTO:+1200
TZNAME:NZST
DTSTART:20250405T140000
END:STANDARD
BEGIN:DAYLIGHT
TZOFFSETFROM:+1200
TZOFFSETTO:+1300
TZNAME:NZDT
DTSTART:20250927T140000
END:DAYLIGHT
BEGIN:STANDARD
TZOFFSETFROM:+1300
TZOFFSETTO:+1200
TZNAME:NZST
DTSTART:20260404T140000
END:STANDARD
BEGIN:DAYLIGHT
TZOFFSETFROM:+1200
TZOFFSETTO:+1300
TZNAME:NZDT
DTSTART:20260926T140000
END:DAYLIGHT
BEGIN:STANDARD
TZOFFSETFROM:+1300
TZOFFSETTO:+1200
TZNAME:NZST
DTSTART:20270403T140000
END:STANDARD
BEGIN:DAYLIGHT
TZOFFSETFROM:+1200
TZOFFSETTO:+1300
TZNAME:NZDT
DTSTART:20270925T140000
END:DAYLIGHT
END:VTIMEZONE
BEGIN:VEVENT
DTSTART;TZID=Pacific/Auckland:20260315T130000
DTEND;TZID=Pacific/Auckland:20260315T160000
DTSTAMP:20260421T080628
CREATED:20250226T205319Z
LAST-MODIFIED:20250623T033430Z
UID:2282-1773579600-1773590400@www.historicmotoring.org.nz
SUMMARY:Registrations
DESCRIPTION:This event has passed. \n				\n				\n				\n						\n					\n			\n						\n				\n					\n	Registrations				\n				\n				\n				\n					\n		\n			March 15\, 2026\n\n	\n\n	 @ \n\n\n1:00 pm\n\n		\n\n\n\n	\n	 - \n\n4:00 pm\n\n\n\n	\n				\n				\n					\n		\n					\n		\n				\n						\n					\n			\n						\n				\n									Registration at the Trafalgar Centre. Register and collect your rally packs this afternoon so you’re ready to go on the first rally Monday morning. Rally route staff will be at the registration desk to assist with enquiries. 								\n				\n					\n		\n					\n		\n				\n						\n					\n			\n						\n				\n					\n	\n		\n\n	\n	Add to calendar	\n		\n	\n\n		\n			\n									\n	Google Calendar\n\n									\n	iCalendar\n\n									\n	Outlook 365\n\n									\n	Outlook Live\n\n							\n		\n\n		\n	\n\n				\n				\n					\n		\n					\n		\n				\n						\n					\n			\n						\n				\n					\n	\n		\n		\n	\n		Coastal Cruise
URL:https://www.historicmotoring.org.nz/event/registrations/
LOCATION:Trafalgar Centre\, Nelson\, New Zealand
CATEGORIES:Festival Events
END:VEVENT
END:VCALENDAR