BEGIN:VCALENDAR
VERSION:2.0
PRODID:-//Vero International Festival of Historic Motoring 2026 - ECPv6.15.20//NONSGML v1.0//EN
CALSCALE:GREGORIAN
METHOD:PUBLISH
X-WR-CALNAME:Vero International Festival of Historic Motoring 2026
X-ORIGINAL-URL:https://www.historicmotoring.org.nz
X-WR-CALDESC:Events for Vero International Festival of Historic Motoring 2026
REFRESH-INTERVAL;VALUE=DURATION:PT1H
X-Robots-Tag:noindex
X-PUBLISHED-TTL:PT1H
BEGIN:VTIMEZONE
TZID:Pacific/Auckland
BEGIN:STANDARD
TZOFFSETFROM:+1300
TZOFFSETTO:+1200
TZNAME:NZST
DTSTART:20250405T140000
END:STANDARD
BEGIN:DAYLIGHT
TZOFFSETFROM:+1200
TZOFFSETTO:+1300
TZNAME:NZDT
DTSTART:20250927T140000
END:DAYLIGHT
BEGIN:STANDARD
TZOFFSETFROM:+1300
TZOFFSETTO:+1200
TZNAME:NZST
DTSTART:20260404T140000
END:STANDARD
BEGIN:DAYLIGHT
TZOFFSETFROM:+1200
TZOFFSETTO:+1300
TZNAME:NZDT
DTSTART:20260926T140000
END:DAYLIGHT
BEGIN:STANDARD
TZOFFSETFROM:+1300
TZOFFSETTO:+1200
TZNAME:NZST
DTSTART:20270403T140000
END:STANDARD
BEGIN:DAYLIGHT
TZOFFSETFROM:+1200
TZOFFSETTO:+1300
TZNAME:NZDT
DTSTART:20270925T140000
END:DAYLIGHT
END:VTIMEZONE
BEGIN:VEVENT
DTSTART;VALUE=DATE:20260317
DTEND;VALUE=DATE:20260318
DTSTAMP:20260420T233131
CREATED:20250219T131218Z
LAST-MODIFIED:20250325T032552Z
UID:1346-1773705600-1773791999@www.historicmotoring.org.nz
SUMMARY:The Lake Run
DESCRIPTION:This event has passed. \n				\n				\n				\n						\n					\n			\n						\n				\n					\n	The Lake Run				\n				\n				\n				\n					\n		\n			March 17\, 2026\n\n		\n\n\n	\n				\n				\n					\n		\n					\n		\n				\n						\n					\n			\n						\n				\n									Today’s rally theme: The Lake Run. A choice of four runs:  Long run: 200 km / 124 mile Medium run: 190 km / 118 mile Short run: 88 km / 55 mile Veterans short run: 62 km / 38 mile  Runs are full day\, out and back with an organised lunch stop and allow time for a rest and refresh before the evening. Today you can visit the Top House Historical Inn\, scene of a 1894 double murder and suicide\, on your way to the second of Tasman District’s three National Parks: Nelson Lakes National Park. View the Classic Boat Museum and experience a short walk in beautiful native bush teeming with native birds.  In the evening: Join your fellow participants for a meal and/or entertainment at the Trafalgar Centre.  Entertainment:  Bingo Night – Games are complimentary so come along and win some prizes.  								\n				\n					\n		\n					\n		\n				\n						\n					\n			\n						\n				\n					\n	\n		\n\n	\n	Add to calendar	\n		\n	\n\n		\n			\n									\n	Google Calendar\n\n									\n	iCalendar\n\n									\n	Outlook 365\n\n									\n	Outlook Live\n\n							\n		\n\n		\n	\n\n				\n				\n					\n		\n					\n		\n				\n						\n					\n			\n						\n				\n					\n	\n		\n\n				Kaiteriteri Rally Lunch Stop - Monday Long and Medium Routes	\n\n\n		\n	\n		St Arnaud Rally Lunch Stop - Tuesday Long and Medium Routes
URL:https://www.historicmotoring.org.nz/event/the-lake-run/
CATEGORIES:Festival Events
END:VEVENT
END:VCALENDAR