BEGIN:VCALENDAR
VERSION:2.0
PRODID:-//Vero International Festival of Historic Motoring 2026 - ECPv6.15.20//NONSGML v1.0//EN
CALSCALE:GREGORIAN
METHOD:PUBLISH
X-WR-CALNAME:Vero International Festival of Historic Motoring 2026
X-ORIGINAL-URL:https://www.historicmotoring.org.nz
X-WR-CALDESC:Events for Vero International Festival of Historic Motoring 2026
REFRESH-INTERVAL;VALUE=DURATION:PT1H
X-Robots-Tag:noindex
X-PUBLISHED-TTL:PT1H
BEGIN:VTIMEZONE
TZID:Pacific/Auckland
BEGIN:STANDARD
TZOFFSETFROM:+1300
TZOFFSETTO:+1200
TZNAME:NZST
DTSTART:20250405T140000
END:STANDARD
BEGIN:DAYLIGHT
TZOFFSETFROM:+1200
TZOFFSETTO:+1300
TZNAME:NZDT
DTSTART:20250927T140000
END:DAYLIGHT
BEGIN:STANDARD
TZOFFSETFROM:+1300
TZOFFSETTO:+1200
TZNAME:NZST
DTSTART:20260404T140000
END:STANDARD
BEGIN:DAYLIGHT
TZOFFSETFROM:+1200
TZOFFSETTO:+1300
TZNAME:NZDT
DTSTART:20260926T140000
END:DAYLIGHT
BEGIN:STANDARD
TZOFFSETFROM:+1300
TZOFFSETTO:+1200
TZNAME:NZST
DTSTART:20270403T140000
END:STANDARD
BEGIN:DAYLIGHT
TZOFFSETFROM:+1200
TZOFFSETTO:+1300
TZNAME:NZDT
DTSTART:20270925T140000
END:DAYLIGHT
END:VTIMEZONE
BEGIN:VEVENT
DTSTART;VALUE=DATE:20260319
DTEND;VALUE=DATE:20260320
DTSTAMP:20260421T201330
CREATED:20250219T135121Z
LAST-MODIFIED:20250325T032430Z
UID:1350-1773878400-1773964799@www.historicmotoring.org.nz
SUMMARY:Valleys and Rivers Run
DESCRIPTION:This event has passed. \n				\n				\n				\n						\n					\n			\n						\n				\n					\n	Valleys and Rivers Run				\n				\n				\n				\n					\n		\n			March 19\, 2026\n\n		\n\n\n	\n				\n				\n					\n		\n					\n		\n				\n						\n					\n			\n						\n				\n									Today’s rally theme: Valleys and Rivers Run. A choice of four runs:  Long run: 149 km / 92 mile Medium run: 133 km / 82 mile Short run: 97 km / 60 mile Veterans short run: 42 km / 26 mile  Runs are full day\, out and back with an organised lunch stop and allow time for a rest and refresh before the evening. Today we head into the hinterland of the Tasman District whose history is titled “Land of Streams”. Tasman is a historic hop growing area and today you will see the modern rejuvenation of this industry as you travel through picturesque rural countryside.  In the evening:Join your fellow participants for a meal and/or entertainment at the Trafalgar Centre. Entertainment: Sun City Soul band with classic Motown Soul anthems that Elvis was inspired by.  Theme:  Ruby Red tonight to celebrate the Vintage Car Club of New Zealand Inc. 80th year anniversary\, so dust off your red clothes (optional).  								\n				\n					\n		\n					\n		\n				\n						\n					\n			\n						\n				\n					\n	\n		\n\n	\n	Add to calendar	\n		\n	\n\n		\n			\n									\n	Google Calendar\n\n									\n	iCalendar\n\n									\n	Outlook 365\n\n									\n	Outlook Live\n\n							\n		\n\n		\n	\n\n				\n				\n					\n		\n					\n		\n				\n						\n					\n			\n						\n				\n					\n	\n		\n\n				Nelson Night on the Town Displays	\n\n\n		\n	\n		Tapawera Rally Lunch Stop - Thursday Long and Medium Routes
URL:https://www.historicmotoring.org.nz/event/valleys-and-rivers-run/
CATEGORIES:Festival Events
END:VEVENT
END:VCALENDAR